BEGIN:VCALENDAR
VERSION:2.0
PRODID:-//Nux ltd.//NONSGML CityBee//EN
CALSCALE:GREGORIAN
METHOD:REQUEST
BEGIN:VALARM
TRIGGER:-PT24H
DURATION:PT15M
ACTION:DISPLAY
DESCRIPTION;LANGUAGE=cs:Efektivní mikroorganismy, Přednáška o efektivních mikroorganismech a jejich užití v zahradě i domácnosti.

END:VALARM
BEGIN:VEVENT
UID:1d068686-0458-49e5-ab9f-31652316ae8c
DESCRIPTION;LANGUAGE=cs:Přednáška o efektivních mikroorganismech a jejich užití v zahradě i domácnosti.

LOCATION;LANGUAGE=cs:Masarykovo nábřeží 22, Praha 1
SUMMARY;LANGUAGE=cs:Efektivní mikroorganismy
ORGANIZER;CN="Klub cestovatelů":MAILTO:filip@klubcestovatelu.cz
STATUS:ACCEPTED
SEQUENCE:0
TRANSP:OPAQUE
CLASS:PUBLIC
DTSTART:20191006T140000Z
DTEND:20191006T160000Z
DTSTAMP:20260420T143001Z
LAST-MODIFIED:20260420T143001Z
END:VEVENT
END:VCALENDAR