BEGIN:VCALENDAR
VERSION:2.0
PRODID:-//Nux ltd.//NONSGML CityBee//EN
CALSCALE:GREGORIAN
METHOD:REQUEST
BEGIN:VALARM
TRIGGER:-PT24H
DURATION:PT15M
ACTION:DISPLAY
DESCRIPTION;LANGUAGE=cs:MTO Universal Praha, Malý Taneční Orchestr se znovu po dvou a půl letech vrátí na kruhové pódium Lucerna Music Baru.

END:VALARM
BEGIN:VEVENT
UID:0e955132-7c99-4aa4-ae89-f40ddd4a278d
DESCRIPTION;LANGUAGE=cs:Malý Taneční Orchestr se znovu po dvou a půl letech vrátí na kruhové pódium Lucerna Music Baru.

LOCATION;LANGUAGE=cs:Vodičkova 36, Praha 1
SUMMARY;LANGUAGE=cs:MTO Universal Praha
ORGANIZER;CN="Lucerna Music Bar":MAILTO:lmb@musicbar.cz
STATUS:ACCEPTED
SEQUENCE:0
TRANSP:OPAQUE
CLASS:PUBLIC
DTSTART:20190509T180000Z
DTEND:20190509T215900Z
DTSTAMP:20260421T165001Z
LAST-MODIFIED:20260421T165001Z
END:VEVENT
END:VCALENDAR