BEGIN:VCALENDAR
VERSION:2.0
PRODID:-//Nux ltd.//NONSGML CityBee//EN
CALSCALE:GREGORIAN
METHOD:REQUEST
BEGIN:VALARM
TRIGGER:-PT24H
DURATION:PT15M
ACTION:DISPLAY
DESCRIPTION;LANGUAGE=cs:Spirituál kvintet, Jiří Tichota, Dušan Vančura, Zdena Tichotová, Jiří Cerha, Veronika Součková, Jiří Holoubek a Pavel Peroutka. To je Spirituál kvintet.
END:VALARM
BEGIN:VEVENT
UID:d6639903-eedc-49a5-b66a-d446ee30f7f4
DESCRIPTION;LANGUAGE=cs:Jiří Tichota, Dušan Vančura, Zdena Tichotová, Jiří Cerha, Veronika Součková, Jiří Holoubek a Pavel Peroutka. To je Spirituál kvintet.
LOCATION;LANGUAGE=cs:Šimanovská 47, Praha
SUMMARY;LANGUAGE=cs:Spirituál kvintet
ORGANIZER;CN="":MAILTO:info@kdkyje.cz
STATUS:ACCEPTED
SEQUENCE:0
TRANSP:OPAQUE
CLASS:PUBLIC
DTSTART:20181219T180000Z
DTEND:20181219T200000Z
DTSTAMP:20260421T161501Z
LAST-MODIFIED:20260421T161501Z
END:VEVENT
END:VCALENDAR