BEGIN:VCALENDAR
VERSION:2.0
PRODID:-//Nux ltd.//NONSGML CityBee//EN
CALSCALE:GREGORIAN
METHOD:REQUEST
BEGIN:VALARM
TRIGGER:-PT24H
DURATION:PT15M
ACTION:DISPLAY
DESCRIPTION;LANGUAGE=cs:Die Fledermaus (Netopýr), Opera
END:VALARM
BEGIN:VEVENT
UID:ad35cb7a-46cb-4eac-a391-fd72c45cf184
DESCRIPTION;LANGUAGE=cs:Opera
LOCATION;LANGUAGE=cs:Wilsonova 4, Praha 1
SUMMARY;LANGUAGE=cs:Die Fledermaus (Netopýr)
ORGANIZER;CN="Státní opera":MAILTO:informace@opera.cz
STATUS:ACCEPTED
SEQUENCE:0
TRANSP:OPAQUE
CLASS:PUBLIC
DTSTART:20121231T190000Z
DTEND:20121231T220000Z
DTSTAMP:20260420T143001Z
LAST-MODIFIED:20260420T143001Z
END:VEVENT
END:VCALENDAR