BEGIN:VCALENDAR
VERSION:2.0
PRODID:-//Nux ltd.//NONSGML CityBee//EN
CALSCALE:GREGORIAN
METHOD:REQUEST
BEGIN:VALARM
TRIGGER:-PT24H
DURATION:PT15M
ACTION:DISPLAY
DESCRIPTION;LANGUAGE=cs:Den dětí a Veselá show s TvMiniUni, Veselá oslava Dne dětí pro děti i rodiče v prodejně Supraphon Musicpoint.

END:VALARM
BEGIN:VEVENT
UID:377792b0-52dc-482c-9796-0cfd6db8f33a
DESCRIPTION;LANGUAGE=cs:Veselá oslava Dne dětí pro děti i rodiče v prodejně Supraphon Musicpoint.

LOCATION;LANGUAGE=cs:Jungmannovo nám. 17, Praha 1
SUMMARY;LANGUAGE=cs:Den dětí a Veselá show s TvMiniUni
ORGANIZER;CN="Supraphon Musicpoint":MAILTO:prodejna@supraphon.cz
STATUS:ACCEPTED
SEQUENCE:0
TRANSP:OPAQUE
CLASS:PUBLIC
DTSTART:20160601T140000Z
DTEND:20160601T170000Z
DTSTAMP:20260420T133501Z
LAST-MODIFIED:20260420T133501Z
END:VEVENT
END:VCALENDAR