BEGIN:VCALENDAR
VERSION:2.0
PRODID:-//Nux ltd.//NONSGML CityBee//EN
CALSCALE:GREGORIAN
METHOD:REQUEST
BEGIN:VALARM
TRIGGER:-PT24H
DURATION:PT15M
ACTION:DISPLAY
DESCRIPTION;LANGUAGE=cs:Dětský den, Přijďte se s dětmi v neděli 29. května bavit, tančit, zpívat a hlavně soutěžit! 

END:VALARM
BEGIN:VEVENT
UID:2ef40601-52e9-43be-ad55-0d0192e9c763
DESCRIPTION;LANGUAGE=cs:Přijďte se s dětmi v neděli 29. května bavit, tančit, zpívat a hlavně soutěžit! 

LOCATION;LANGUAGE=cs:Lodžská 850/6, Praha 8
SUMMARY;LANGUAGE=cs:Dětský den
ORGANIZER;CN="Centrum Krakov":MAILTO:info@centrumkrakov.cz
STATUS:ACCEPTED
SEQUENCE:0
TRANSP:OPAQUE
CLASS:PUBLIC
DTSTART:20160529T080000Z
DTEND:20160529T130000Z
DTSTAMP:20260420T133501Z
LAST-MODIFIED:20260420T133501Z
END:VEVENT
END:VCALENDAR