BEGIN:VCALENDAR
VERSION:2.0
PRODID:-//Nux ltd.//NONSGML CityBee//EN
CALSCALE:GREGORIAN
METHOD:REQUEST
BEGIN:VALARM
TRIGGER:-PT24H
DURATION:PT15M
ACTION:DISPLAY
DESCRIPTION;LANGUAGE=cs:Prague Outdoor Training Cup 2012, Turnaj všech pořadatelů bootcampů, venkovních a funkčních tréninků a dalších sportovních nadšenců cvičících v létě pod širým nebem.
END:VALARM
BEGIN:VEVENT
UID:6bee89e2-4e33-44a8-b7e0-5538dd171042
DESCRIPTION;LANGUAGE=cs:Turnaj všech pořadatelů bootcampů, venkovních a funkčních tréninků a dalších sportovních nadšenců cvičících v létě pod širým nebem.
LOCATION;LANGUAGE=cs:Kovanecká 27, Praha 9
SUMMARY;LANGUAGE=cs:Prague Outdoor Training Cup 2012
ORGANIZER;CN="Hammer Strength Fitness":MAILTO:roman@hammerstrength.cz
STATUS:ACCEPTED
SEQUENCE:0
TRANSP:OPAQUE
CLASS:PUBLIC
DTSTART:20121027T060000Z
DTEND:20121027T150000Z
DTSTAMP:20260419T123501Z
LAST-MODIFIED:20260419T123501Z
END:VEVENT
END:VCALENDAR