BEGIN:VCALENDAR
VERSION:2.0
PRODID:-//Nux ltd.//NONSGML CityBee//EN
CALSCALE:GREGORIAN
METHOD:REQUEST
BEGIN:VALARM
TRIGGER:-PT24H
DURATION:PT15M
ACTION:DISPLAY
DESCRIPTION;LANGUAGE=cs:Hana Švejnohová, Další setkání se známými osobnostmi, tentokrát v cyklu Sexy až do hrobu, aneb jak úspěšně nestárnout. 

END:VALARM
BEGIN:VEVENT
UID:de3f6c3c-1c32-4018-b87e-3b1bfe16a3a6
DESCRIPTION;LANGUAGE=cs:Další setkání se známými osobnostmi, tentokrát v cyklu Sexy až do hrobu, aneb jak úspěšně nestárnout. 

LOCATION;LANGUAGE=cs:Mariánské náměstí 1, Praha 1
SUMMARY;LANGUAGE=cs:Hana Švejnohová
ORGANIZER;CN="Městská knihovna v Praze":MAILTO:knihovna@mlp.cz
STATUS:ACCEPTED
SEQUENCE:0
TRANSP:OPAQUE
CLASS:PUBLIC
DTSTART:20140519T123000Z
DTEND:20140519T140000Z
DTSTAMP:20260420T142501Z
LAST-MODIFIED:20260420T142501Z
END:VEVENT
END:VCALENDAR