BEGIN:VCALENDAR
VERSION:2.0
PRODID:-//Nux ltd.//NONSGML CityBee//EN
CALSCALE:GREGORIAN
METHOD:REQUEST
BEGIN:VALARM
TRIGGER:-PT24H
DURATION:PT15M
ACTION:DISPLAY
DESCRIPTION;LANGUAGE=cs:Stabat Mater, Pražský studentský orchestr vystoupí se švýcarskými sbory.
END:VALARM
BEGIN:VEVENT
UID:3da08077-cc84-46e7-8bff-42c9f79930b5
DESCRIPTION;LANGUAGE=cs:Pražský studentský orchestr vystoupí se švýcarskými sbory.
LOCATION;LANGUAGE=cs:Karmelitská 2/4, Praha 1
SUMMARY;LANGUAGE=cs:Stabat Mater
ORGANIZER;CN="Komorní ansámbl mladých Praha":MAILTO:
STATUS:ACCEPTED
SEQUENCE:0
TRANSP:OPAQUE
CLASS:PUBLIC
DTSTART:20130929T170000Z
DTEND:20130929T200000Z
DTSTAMP:20260424T132501Z
LAST-MODIFIED:20260424T132501Z
END:VEVENT
END:VCALENDAR