BEGIN:VCALENDAR
VERSION:2.0
PRODID:-//Nux ltd.//NONSGML CityBee//EN
CALSCALE:GREGORIAN
METHOD:REQUEST
BEGIN:VALARM
TRIGGER:-PT24H
DURATION:PT15M
ACTION:DISPLAY
DESCRIPTION;LANGUAGE=cs:Pink Floyd revival - Distant Bells, Koncert brněnské revivalové skupiny hrající skladby britské kapely Pink Floyd.
END:VALARM
BEGIN:VEVENT
UID:4db95711-853a-4bd8-91e2-af1ed1797bf7
DESCRIPTION;LANGUAGE=cs:Koncert brněnské revivalové skupiny hrající skladby britské kapely Pink Floyd.
LOCATION;LANGUAGE=cs:Národní 25, Praha 1
SUMMARY;LANGUAGE=cs:Pink Floyd revival - Distant Bells
ORGANIZER;CN="Vagon":MAILTO:vagonclub@seznam.cz
STATUS:ACCEPTED
SEQUENCE:0
TRANSP:OPAQUE
CLASS:PUBLIC
DTSTART:20120824T190000Z
DTEND:20120825T040000Z
DTSTAMP:20260421T164501Z
LAST-MODIFIED:20260421T164501Z
END:VEVENT
END:VCALENDAR