BEGIN:VCALENDAR
VERSION:2.0
PRODID:-//Nux ltd.//NONSGML CityBee//EN
CALSCALE:GREGORIAN
METHOD:REQUEST
BEGIN:VALARM
TRIGGER:-PT24H
DURATION:PT15M
ACTION:DISPLAY
DESCRIPTION;LANGUAGE=cs:Hlava v písku, Jan Potměšil a Ivana Chýlková se představují v jedinečných komediálních rolích, které jim byly napsány přímo „na tělo“.
END:VALARM
BEGIN:VEVENT
UID:b8e55968-18d1-4070-b5a6-0e5a23a0bf19
DESCRIPTION;LANGUAGE=cs:Jan Potměšil a Ivana Chýlková se představují v jedinečných komediálních rolích, které jim byly napsány přímo „na tělo“.
LOCATION;LANGUAGE=cs:Václavské nám. 56, Praha 1  Nové město
SUMMARY;LANGUAGE=cs:Hlava v písku
ORGANIZER;CN="Studio DVA divadlo":MAILTO:info@studiodva.cz
STATUS:ACCEPTED
SEQUENCE:0
TRANSP:OPAQUE
CLASS:PUBLIC
DTSTART:20130923T170000Z
DTEND:20130923T190000Z
DTSTAMP:20260422T221501Z
LAST-MODIFIED:20260422T221501Z
END:VEVENT
END:VCALENDAR