BEGIN:VCALENDAR
VERSION:2.0
PRODID:-//Nux ltd.//NONSGML CityBee//EN
CALSCALE:GREGORIAN
METHOD:REQUEST
BEGIN:VALARM
TRIGGER:-PT24H
DURATION:PT15M
ACTION:DISPLAY
DESCRIPTION;LANGUAGE=cs:SIGMA (Hospital Records) & Roxy (Imagination Warm Up), Imagination Stage Vám představí jednoho z nejlepších drum and bassových producentů a dj&#39;s SIGMA z Velké Británie! 

END:VALARM
BEGIN:VEVENT
UID:a0bb92aa-79c0-4e12-8bcf-7ff66a2b6eb5
DESCRIPTION;LANGUAGE=cs:Imagination Stage Vám představí jednoho z nejlepších drum and bassových producentů a dj&#39;s SIGMA z Velké Británie! 

LOCATION;LANGUAGE=cs:Dlouhá 33, Praha 1
SUMMARY;LANGUAGE=cs:SIGMA (Hospital Records) & Roxy (Imagination Warm Up)
ORGANIZER;CN="ROXY":MAILTO:lukas@roxy.cz
STATUS:ACCEPTED
SEQUENCE:0
TRANSP:OPAQUE
CLASS:PUBLIC
DTSTART:20130921T190000Z
DTEND:20130921T215900Z
DTSTAMP:20260424T155001Z
LAST-MODIFIED:20260424T155001Z
END:VEVENT
END:VCALENDAR