BEGIN:VCALENDAR
VERSION:2.0
PRODID:-//Nux ltd.//NONSGML CityBee//EN
CALSCALE:GREGORIAN
METHOD:REQUEST
BEGIN:VALARM
TRIGGER:-PT24H
DURATION:PT15M
ACTION:DISPLAY
DESCRIPTION;LANGUAGE=cs:Holi Open Air Praha, Colour Festival přichází do Prahy!
END:VALARM
BEGIN:VEVENT
UID:738d6b29-91d4-49d4-bb6e-62655d37056e
DESCRIPTION;LANGUAGE=cs:Colour Festival přichází do Prahy!
LOCATION;LANGUAGE=cs:Výstaviště Holešovice, Praha 7
SUMMARY;LANGUAGE=cs:Holi Open Air Praha
ORGANIZER;CN="Holi Open Air":MAILTO:holipraha@gmail.com
STATUS:ACCEPTED
SEQUENCE:0
TRANSP:OPAQUE
CLASS:PUBLIC
DTSTART:20130915T100000Z
DTEND:20130915T200000Z
DTSTAMP:20260424T152001Z
LAST-MODIFIED:20260424T152001Z
END:VEVENT
END:VCALENDAR