BEGIN:VCALENDAR
VERSION:2.0
PRODID:-//Nux ltd.//NONSGML CityBee//EN
CALSCALE:GREGORIAN
METHOD:REQUEST
BEGIN:VALARM
TRIGGER:-PT24H
DURATION:PT15M
ACTION:DISPLAY
DESCRIPTION;LANGUAGE=cs:Bylinkový víkend, Přijďte se dozvědět více o bylinkách, receptech z bylinek a bylinné kosmetice!

END:VALARM
BEGIN:VEVENT
UID:db0ce7b4-d041-4a3d-a9bf-7c303e623a1d
DESCRIPTION;LANGUAGE=cs:Přijďte se dozvědět více o bylinkách, receptech z bylinek a bylinné kosmetice!

LOCATION;LANGUAGE=cs:Střešovická 47, Praha 6
SUMMARY;LANGUAGE=cs:Bylinkový víkend
ORGANIZER;CN="Chládek zahradnické centrum - Střešovická":MAILTO:info@zahradnictvi-chladek.cz
STATUS:ACCEPTED
SEQUENCE:0
TRANSP:OPAQUE
CLASS:PUBLIC
DTSTART:20130524T060000Z
DTEND:20130526T140000Z
DTSTAMP:20260424T221502Z
LAST-MODIFIED:20260424T221502Z
END:VEVENT
END:VCALENDAR