BEGIN:VCALENDAR
VERSION:2.0
PRODID:-//Nux ltd.//NONSGML CityBee//EN
CALSCALE:GREGORIAN
METHOD:REQUEST
BEGIN:VALARM
TRIGGER:-PT24H
DURATION:PT15M
ACTION:DISPLAY
DESCRIPTION;LANGUAGE=cs:Dvořákova Praha 2013, 13. ročník hudebního festivalu.
END:VALARM
BEGIN:VEVENT
UID:e91904e2-bfe6-40e2-a7c2-64c89b48d054
DESCRIPTION;LANGUAGE=cs:13. ročník hudebního festivalu.
LOCATION;LANGUAGE=cs:Petrská 29/1168, Praha 1
SUMMARY;LANGUAGE=cs:Dvořákova Praha 2013
ORGANIZER;CN="Dvořákova Praha":MAILTO:info@dvorakovapraha.cz
STATUS:ACCEPTED
SEQUENCE:0
TRANSP:OPAQUE
CLASS:PUBLIC
DTSTART:20130908T170000Z
DTEND:20130920T200000Z
DTSTAMP:20260424T120001Z
LAST-MODIFIED:20260424T120001Z
END:VEVENT
END:VCALENDAR