BEGIN:VCALENDAR
VERSION:2.0
PRODID:-//Nux ltd.//NONSGML CityBee//EN
CALSCALE:GREGORIAN
METHOD:REQUEST
BEGIN:VALARM
TRIGGER:-PT24H
DURATION:PT15M
ACTION:DISPLAY
DESCRIPTION;LANGUAGE=cs:Dubioza Kolektiv, Nevídaná balkánsko-hiphopové warm-up party pro letní Rock for People.
END:VALARM
BEGIN:VEVENT
UID:ff485f71-4fc8-47eb-a8e5-836187f67143
DESCRIPTION;LANGUAGE=cs:Nevídaná balkánsko-hiphopové warm-up party pro letní Rock for People.
LOCATION;LANGUAGE=cs:Kubelíkova 1548/27, Praha 3
SUMMARY;LANGUAGE=cs:Dubioza Kolektiv
ORGANIZER;CN="Palác Akropolis":MAILTO:info@palacakropolis.cz
STATUS:ACCEPTED
SEQUENCE:0
TRANSP:OPAQUE
CLASS:PUBLIC
DTSTART:20130423T173000Z
DTEND:20130423T203000Z
DTSTAMP:20260424T153001Z
LAST-MODIFIED:20260424T153001Z
END:VEVENT
END:VCALENDAR