BEGIN:VCALENDAR
VERSION:2.0
PRODID:-//Nux ltd.//NONSGML CityBee//EN
CALSCALE:GREGORIAN
METHOD:REQUEST
BEGIN:VALARM
TRIGGER:-PT24H
DURATION:PT15M
ACTION:DISPLAY
DESCRIPTION;LANGUAGE=cs:Filozofická kavárna: přemýšlet a diskutovat, Filozofování o životě a o všem ostatním pro všechny, bez vstupného a bez přihlášky.
END:VALARM
BEGIN:VEVENT
UID:75478d16-9025-4d73-978b-a99fc109a6b0
DESCRIPTION;LANGUAGE=cs:Filozofování o životě a o všem ostatním pro všechny, bez vstupného a bez přihlášky.
LOCATION;LANGUAGE=cs:Klimentská 2067/34, 11000 Praha 1 - Petrská čtvrt&#39; 
SUMMARY;LANGUAGE=cs:Filozofická kavárna: přemýšlet a diskutovat
ORGANIZER;CN="":MAILTO:
STATUS:ACCEPTED
SEQUENCE:0
TRANSP:OPAQUE
CLASS:PUBLIC
DTSTART:20260425T151500Z
DTEND:20260425T164500Z
DTSTAMP:20260422T205000Z
LAST-MODIFIED:20260422T205000Z
END:VEVENT
END:VCALENDAR