BEGIN:VCALENDAR
VERSION:2.0
PRODID:-//Nux ltd.//NONSGML CityBee//EN
CALSCALE:GREGORIAN
METHOD:REQUEST
BEGIN:VALARM
TRIGGER:-PT24H
DURATION:PT15M
ACTION:DISPLAY
DESCRIPTION;LANGUAGE=cs:Reloved Market ve Westfield Černý Most  , Šatník, který má příběh: móda z druhé ruky, swap, workshopy i podpora dobré věci 
END:VALARM
BEGIN:VEVENT
UID:c82f21c1-6016-4a17-b2a0-389bdcbecb58
DESCRIPTION;LANGUAGE=cs:Šatník, který má příběh: móda z druhé ruky, swap, workshopy i podpora dobré věci 
LOCATION;LANGUAGE=cs:Chlumecká 765/6, Praha 9
SUMMARY;LANGUAGE=cs:Reloved Market ve Westfield Černý Most  
ORGANIZER;CN="":MAILTO:infodesk1@centrumcernymost.cz
STATUS:ACCEPTED
SEQUENCE:0
TRANSP:OPAQUE
CLASS:PUBLIC
DTSTART:20260423T220000Z
DTEND:20260425T220000Z
DTSTAMP:20260422T130147Z
LAST-MODIFIED:20260422T130147Z
END:VEVENT
END:VCALENDAR