BEGIN:VCALENDAR
VERSION:2.0
PRODID:-//Nux ltd.//NONSGML CityBee//EN
CALSCALE:GREGORIAN
METHOD:REQUEST
BEGIN:VALARM
TRIGGER:-PT24H
DURATION:PT15M
ACTION:DISPLAY
DESCRIPTION;LANGUAGE=cs:Výstava | Tančící dům: příběh ikonické budovy, Výstava vznikla k 30. výročí otevření Tančícího domu a představuje historii stavby, její architekturu i méně známé momenty jejího vzniku.
END:VALARM
BEGIN:VEVENT
UID:195521f8-2fcf-456a-8b82-018d1c8767da
DESCRIPTION;LANGUAGE=cs:Výstava vznikla k 30. výročí otevření Tančícího domu a představuje historii stavby, její architekturu i méně známé momenty jejího vzniku.
LOCATION;LANGUAGE=cs:Jiráskovo náměstí 6, Praha 2
SUMMARY;LANGUAGE=cs:Výstava | Tančící dům: příběh ikonické budovy
ORGANIZER;CN="Galerie Tančící dům":MAILTO:alzbetafelixova@gmail.com
STATUS:ACCEPTED
SEQUENCE:0
TRANSP:OPAQUE
CLASS:PUBLIC
DTSTART:20260422T070000Z
DTEND:20261018T180000Z
DTSTAMP:20260423T125332Z
LAST-MODIFIED:20260423T125332Z
END:VEVENT
END:VCALENDAR