BEGIN:VCALENDAR
VERSION:2.0
PRODID:-//Nux ltd.//NONSGML CityBee//EN
CALSCALE:GREGORIAN
METHOD:REQUEST
BEGIN:VALARM
TRIGGER:-PT24H
DURATION:PT15M
ACTION:DISPLAY
DESCRIPTION;LANGUAGE=cs:Tradiční řemeslný workshop ve znakovém jazyce, kurz vaření v českém znakovém jazyce
END:VALARM
BEGIN:VEVENT
UID:d1b0b735-82ec-4ac3-b0a2-00d5c707ebf9
DESCRIPTION;LANGUAGE=cs:kurz vaření v českém znakovém jazyce
LOCATION;LANGUAGE=cs:Kinského zahrada 98, Praha 5
SUMMARY;LANGUAGE=cs:Tradiční řemeslný workshop ve znakovém jazyce
ORGANIZER;CN="":MAILTO:narodopis@nm.cz
STATUS:ACCEPTED
SEQUENCE:0
TRANSP:OPAQUE
CLASS:PUBLIC
DTSTART:20260425T120000Z
DTEND:20260425T150000Z
DTSTAMP:20260420T121731Z
LAST-MODIFIED:20260420T121731Z
END:VEVENT
END:VCALENDAR