BEGIN:VCALENDAR
VERSION:2.0
PRODID:-//Nux ltd.//NONSGML CityBee//EN
CALSCALE:GREGORIAN
METHOD:REQUEST
BEGIN:VALARM
TRIGGER:-PT24H
DURATION:PT15M
ACTION:DISPLAY
DESCRIPTION;LANGUAGE=cs:Víly a jednorožci - kouzelné dílničky, Víly a jednorožci – kouzelné dílničky. Přijďte s dětmi do světa víl a jednorožců, kde se tvoří, třpytí a užívá společný čas.
END:VALARM
BEGIN:VEVENT
UID:9d686efe-797c-4123-84ae-68386c4913af
DESCRIPTION;LANGUAGE=cs:Víly a jednorožci – kouzelné dílničky. Přijďte s dětmi do světa víl a jednorožců, kde se tvoří, třpytí a užívá společný čas.
LOCATION;LANGUAGE=cs:náměstí Barikád 1520/1, Praha 3
SUMMARY;LANGUAGE=cs:Víly a jednorožci - kouzelné dílničky
ORGANIZER;CN="Žižkostel":MAILTO:tana.vozkova@husitskecentrum.cz
STATUS:ACCEPTED
SEQUENCE:0
TRANSP:OPAQUE
CLASS:PUBLIC
DTSTART:20260426T120000Z
DTEND:20260426T153000Z
DTSTAMP:20260420T062246Z
LAST-MODIFIED:20260420T062246Z
END:VEVENT
END:VCALENDAR