BEGIN:VCALENDAR
VERSION:2.0
PRODID:-//Nux ltd.//NONSGML CityBee//EN
CALSCALE:GREGORIAN
METHOD:REQUEST
BEGIN:VALARM
TRIGGER:-PT24H
DURATION:PT15M
ACTION:DISPLAY
DESCRIPTION;LANGUAGE=cs:Koktejly z oceánu v Les Moules, Milovníci mořských plodů, zbystřete. Na Pařížskou se valí vlna koktejlů z oceánu!
END:VALARM
BEGIN:VEVENT
UID:a2a0df50-f9cd-4ada-983b-4f745732350e
DESCRIPTION;LANGUAGE=cs:Milovníci mořských plodů, zbystřete. Na Pařížskou se valí vlna koktejlů z oceánu!
LOCATION;LANGUAGE=cs:Pařížská 203/19, Praha 1
SUMMARY;LANGUAGE=cs:Koktejly z oceánu v Les Moules
ORGANIZER;CN="":MAILTO:info@lesmoules.cz
STATUS:ACCEPTED
SEQUENCE:0
TRANSP:OPAQUE
CLASS:PUBLIC
DTSTART:20260424T093000Z
DTEND:20260503T200000Z
DTSTAMP:20260420T052746Z
LAST-MODIFIED:20260420T052746Z
END:VEVENT
END:VCALENDAR