BEGIN:VCALENDAR
VERSION:2.0
PRODID:-//Nux ltd.//NONSGML CityBee//EN
CALSCALE:GREGORIAN
METHOD:REQUEST
BEGIN:VALARM
TRIGGER:-PT24H
DURATION:PT15M
ACTION:DISPLAY
DESCRIPTION;LANGUAGE=cs:HOUKAČKY Řevnice 2026, Zveme vás na třetí ročník jednoho z největších festivalů v ČR pro děti a rodiče, který nejen baví, ale také vzdělává.
END:VALARM
BEGIN:VEVENT
UID:ee206fa4-a988-4a0e-8d06-a7d4be4a6a9f
DESCRIPTION;LANGUAGE=cs:Zveme vás na třetí ročník jednoho z největších festivalů v ČR pro děti a rodiče, který nejen baví, ale také vzdělává.
LOCATION;LANGUAGE=cs:Řevnice, 252 30
SUMMARY;LANGUAGE=cs:HOUKAČKY Řevnice 2026
ORGANIZER;CN="":MAILTO:info@houkacky.cz
STATUS:ACCEPTED
SEQUENCE:0
TRANSP:OPAQUE
CLASS:PUBLIC
DTSTART:20260425T080000Z
DTEND:20260425T150000Z
DTSTAMP:20260423T204632Z
LAST-MODIFIED:20260423T204632Z
END:VEVENT
END:VCALENDAR