BEGIN:VCALENDAR
VERSION:2.0
PRODID:-//Nux ltd.//NONSGML CityBee//EN
CALSCALE:GREGORIAN
METHOD:REQUEST
BEGIN:VALARM
TRIGGER:-PT24H
DURATION:PT15M
ACTION:DISPLAY
DESCRIPTION;LANGUAGE=cs:Kdybych měla nohy tak ti nakopu, Linda se snaží ukočírovat práci, mateřství i vlastní nervy, jenže dcera, manžel, klienti i kolegové ji deptají čím dál víc...
END:VALARM
BEGIN:VEVENT
UID:68bbfcfc-ffc1-4616-9f4d-c3360ee223e8
DESCRIPTION;LANGUAGE=cs:Linda se snaží ukočírovat práci, mateřství i vlastní nervy, jenže dcera, manžel, klienti i kolegové ji deptají čím dál víc...
LOCATION;LANGUAGE=cs:Štěpánská 644/35, Praha 1
SUMMARY;LANGUAGE=cs:Kdybych měla nohy tak ti nakopu
ORGANIZER;CN="":MAILTO:kino35@ifp.cz
STATUS:ACCEPTED
SEQUENCE:0
TRANSP:OPAQUE
CLASS:PUBLIC
DTSTART:20260425T153000Z
DTEND:20260425T172000Z
DTSTAMP:20260417T104910Z
LAST-MODIFIED:20260417T104910Z
END:VEVENT
END:VCALENDAR