BEGIN:VCALENDAR
VERSION:2.0
PRODID:-//Nux ltd.//NONSGML CityBee//EN
CALSCALE:GREGORIAN
METHOD:REQUEST
BEGIN:VALARM
TRIGGER:-PT24H
DURATION:PT15M
ACTION:DISPLAY
DESCRIPTION;LANGUAGE=cs:PRO DĚTI | Rally: Od Paříže k pyramidám, Tři nečekaní přátelé se pokoušejí vyhrát legendární rally z Paříže k pyramidám. Po cestě se naučí, že některé věci jsou mnohem cennější než vítězství
END:VALARM
BEGIN:VEVENT
UID:7b751ca0-e8f5-4743-abde-499bbe65103d
DESCRIPTION;LANGUAGE=cs:Tři nečekaní přátelé se pokoušejí vyhrát legendární rally z Paříže k pyramidám. Po cestě se naučí, že některé věci jsou mnohem cennější než vítězství
LOCATION;LANGUAGE=cs:Štěpánská 644/35, Praha 1
SUMMARY;LANGUAGE=cs:PRO DĚTI | Rally: Od Paříže k pyramidám
ORGANIZER;CN="":MAILTO:kino35@ifp.cz
STATUS:ACCEPTED
SEQUENCE:0
TRANSP:OPAQUE
CLASS:PUBLIC
DTSTART:20260425T140000Z
DTEND:20260425T152000Z
DTSTAMP:20260417T104653Z
LAST-MODIFIED:20260417T104653Z
END:VEVENT
END:VCALENDAR