BEGIN:VCALENDAR
VERSION:2.0
PRODID:-//Nux ltd.//NONSGML CityBee//EN
CALSCALE:GREGORIAN
METHOD:REQUEST
BEGIN:VALARM
TRIGGER:-PT24H
DURATION:PT15M
ACTION:DISPLAY
DESCRIPTION;LANGUAGE=cs:Dvojí život Veroniky, kultovní film Krzysztofa Kieślowskeho: 
v originálním znění (francouzky a polsky; polské pasáže s francouzskými titulky) s anglickými titulky.
END:VALARM
BEGIN:VEVENT
UID:3600cf16-0667-4035-b43c-0ec2c44bfa37
DESCRIPTION;LANGUAGE=cs:kultovní film Krzysztofa Kieślowskeho: 
v originálním znění (francouzky a polsky; polské pasáže s francouzskými titulky) s anglickými titulky.
LOCATION;LANGUAGE=cs:Štěpánská 644/35, Praha 1
SUMMARY;LANGUAGE=cs:Dvojí život Veroniky
ORGANIZER;CN="":MAILTO:kino35@ifp.cz
STATUS:ACCEPTED
SEQUENCE:0
TRANSP:OPAQUE
CLASS:PUBLIC
DTSTART:20260424T153000Z
DTEND:20260424T170500Z
DTSTAMP:20260424T175001Z
LAST-MODIFIED:20260424T175001Z
END:VEVENT
END:VCALENDAR