BEGIN:VCALENDAR
VERSION:2.0
PRODID:-//Nux ltd.//NONSGML CityBee//EN
CALSCALE:GREGORIAN
METHOD:REQUEST
BEGIN:VALARM
TRIGGER:-PT24H
DURATION:PT15M
ACTION:DISPLAY
DESCRIPTION;LANGUAGE=cs:Případ 137, Nejnovější film Dominiqua Molla! Případ mladého muže zraněného během demonstrace, vedený jako spis 137, není jen číslo v řadě...
END:VALARM
BEGIN:VEVENT
UID:4721b7d9-0e8f-4384-9070-4734b58fc157
DESCRIPTION;LANGUAGE=cs:Nejnovější film Dominiqua Molla! Případ mladého muže zraněného během demonstrace, vedený jako spis 137, není jen číslo v řadě...
LOCATION;LANGUAGE=cs:Štěpánská 644/35, Praha 1
SUMMARY;LANGUAGE=cs:Případ 137
ORGANIZER;CN="":MAILTO:kino35@ifp.cz
STATUS:ACCEPTED
SEQUENCE:0
TRANSP:OPAQUE
CLASS:PUBLIC
DTSTART:20260420T183000Z
DTEND:20260420T203000Z
DTSTAMP:20260416T133456Z
LAST-MODIFIED:20260416T133456Z
END:VEVENT
END:VCALENDAR