BEGIN:VCALENDAR
VERSION:2.0
PRODID:-//Nux ltd.//NONSGML CityBee//EN
CALSCALE:GREGORIAN
METHOD:REQUEST
BEGIN:VALARM
TRIGGER:-PT24H
DURATION:PT15M
ACTION:DISPLAY
DESCRIPTION;LANGUAGE=cs:Mzda strachu (1977), Nesourodá skupina trestanců a vyděděnců se za příslib svobody a pohádkové peněžní odměny přihlásí na životu nebezpečnou misi.
END:VALARM
BEGIN:VEVENT
UID:34babb00-eea4-464f-a9d1-590f5cd7ebee
DESCRIPTION;LANGUAGE=cs:Nesourodá skupina trestanců a vyděděnců se za příslib svobody a pohádkové peněžní odměny přihlásí na životu nebezpečnou misi.
LOCATION;LANGUAGE=cs:Biskupcova 87/31a, Praha 3
SUMMARY;LANGUAGE=cs:Mzda strachu (1977)
ORGANIZER;CN="Kino Aero":MAILTO:info@kinoaero.cz
STATUS:ACCEPTED
SEQUENCE:0
TRANSP:OPAQUE
CLASS:PUBLIC
DTSTART:20260420T183000Z
DTEND:20260420T203500Z
DTSTAMP:20260416T121013Z
LAST-MODIFIED:20260416T121013Z
END:VEVENT
END:VCALENDAR