BEGIN:VCALENDAR
VERSION:2.0
PRODID:-//Nux ltd.//NONSGML CityBee//EN
CALSCALE:GREGORIAN
METHOD:REQUEST
BEGIN:VALARM
TRIGGER:-PT24H
DURATION:PT15M
ACTION:DISPLAY
DESCRIPTION;LANGUAGE=cs:Eldorádo, Autorské inscenace studujících Katedry alternativního a loutkového divadla DAMU na motivy povídky Flannery O&#39;Connor Dobrého člověka těžko najdeš.
END:VALARM
BEGIN:VEVENT
UID:c1608fed-eec8-4340-985d-45be6e05f9d8
DESCRIPTION;LANGUAGE=cs:Autorské inscenace studujících Katedry alternativního a loutkového divadla DAMU na motivy povídky Flannery O&#39;Connor Dobrého člověka těžko najdeš.
LOCATION;LANGUAGE=cs:Karlova 26, Praha 1
SUMMARY;LANGUAGE=cs:Eldorádo
ORGANIZER;CN="Divadlo DISK":MAILTO:disk@divadlodisk.cz
STATUS:ACCEPTED
SEQUENCE:0
TRANSP:OPAQUE
CLASS:PUBLIC
DTSTART:20260502T173000Z
DTEND:20260502T190000Z
DTSTAMP:20260416T115554Z
LAST-MODIFIED:20260416T115554Z
END:VEVENT
END:VCALENDAR