BEGIN:VCALENDAR
VERSION:2.0
PRODID:-//Nux ltd.//NONSGML CityBee//EN
CALSCALE:GREGORIAN
METHOD:REQUEST
BEGIN:VALARM
TRIGGER:-PT24H
DURATION:PT15M
ACTION:DISPLAY
DESCRIPTION;LANGUAGE=cs:Černobyl 1986 - přednáška Muzea paměti XX. století, Diskuse se bude věnovat tomu, jak havárie ovlivnila život v tehdejším Československu i jak je tato událost vnímána dnes.
END:VALARM
BEGIN:VEVENT
UID:f101245c-b871-4c4f-8080-daa4a9fa83a7
DESCRIPTION;LANGUAGE=cs:Diskuse se bude věnovat tomu, jak havárie ovlivnila život v tehdejším Československu i jak je tato událost vnímána dnes.
LOCATION;LANGUAGE=cs:Ostrovní 13, Praha 1
SUMMARY;LANGUAGE=cs:Černobyl 1986 - přednáška Muzea paměti XX. století
ORGANIZER;CN="Knihovna Václava Havla":MAILTO:info@vaclavhavel-library.org
STATUS:ACCEPTED
SEQUENCE:0
TRANSP:OPAQUE
CLASS:PUBLIC
DTSTART:20260422T170000Z
DTEND:20260422T190000Z
DTSTAMP:20260416T072838Z
LAST-MODIFIED:20260416T072838Z
END:VEVENT
END:VCALENDAR