BEGIN:VCALENDAR
VERSION:2.0
PRODID:-//Nux ltd.//NONSGML CityBee//EN
CALSCALE:GREGORIAN
METHOD:REQUEST
BEGIN:VALARM
TRIGGER:-PT24H
DURATION:PT15M
ACTION:DISPLAY
DESCRIPTION;LANGUAGE=cs:Festival Výtvarka, Přijďte v dubnu na Letnou a zažijte, že výtvarka není jen nuda v lavici, ale nekonečný svět tvoření, hraní a objevování! 
END:VALARM
BEGIN:VEVENT
UID:feff2792-8851-406c-9c30-f7871d58b11f
DESCRIPTION;LANGUAGE=cs:Přijďte v dubnu na Letnou a zažijte, že výtvarka není jen nuda v lavici, ale nekonečný svět tvoření, hraní a objevování! 
LOCATION;LANGUAGE=cs:Areál Na Výšinách 1, Praha 7
SUMMARY;LANGUAGE=cs:Festival Výtvarka
ORGANIZER;CN="Vodárenská věž Letná":MAILTO:info@ddmpraha7.cz
STATUS:ACCEPTED
SEQUENCE:0
TRANSP:OPAQUE
CLASS:PUBLIC
DTSTART:20260425T110000Z
DTEND:20260425T160000Z
DTSTAMP:20260416T064945Z
LAST-MODIFIED:20260416T064945Z
END:VEVENT
END:VCALENDAR