BEGIN:VCALENDAR
VERSION:2.0
PRODID:-//Nux ltd.//NONSGML CityBee//EN
CALSCALE:GREGORIAN
METHOD:REQUEST
BEGIN:VALARM
TRIGGER:-PT24H
DURATION:PT15M
ACTION:DISPLAY
DESCRIPTION;LANGUAGE=cs:Filharmoniště: Péťa a vlk, Péťa a vlk, hudební pohádka světoznámého skladatele Sergeje Prokofjeva.
END:VALARM
BEGIN:VEVENT
UID:064cd294-6b8b-4521-b12e-2a39022fb6ed
DESCRIPTION;LANGUAGE=cs:Péťa a vlk, hudební pohádka světoznámého skladatele Sergeje Prokofjeva.
LOCATION;LANGUAGE=cs:Karlovo náměstí 1/23, Praha 2
SUMMARY;LANGUAGE=cs:Filharmoniště: Péťa a vlk
ORGANIZER;CN="Novoměstská radnice":MAILTO:info@nrpraha.cz
STATUS:ACCEPTED
SEQUENCE:0
TRANSP:OPAQUE
CLASS:PUBLIC
DTSTART:20260525T073000Z
DTEND:20260525T103000Z
DTSTAMP:20260416T062220Z
LAST-MODIFIED:20260416T062220Z
END:VEVENT
END:VCALENDAR