BEGIN:VCALENDAR
VERSION:2.0
PRODID:-//Nux ltd.//NONSGML CityBee//EN
CALSCALE:GREGORIAN
METHOD:REQUEST
BEGIN:VALARM
TRIGGER:-PT24H
DURATION:PT15M
ACTION:DISPLAY
DESCRIPTION;LANGUAGE=cs:Julie Roset, Operní zázrak na dosah: Julie Roset se vrací do Prahy! 
END:VALARM
BEGIN:VEVENT
UID:12eb8922-3afd-4edb-82a4-bda1f61492b8
DESCRIPTION;LANGUAGE=cs:Operní zázrak na dosah: Julie Roset se vrací do Prahy! 
LOCATION;LANGUAGE=cs:Karlovo náměstí 1/23, Praha 2
SUMMARY;LANGUAGE=cs:Julie Roset
ORGANIZER;CN="Novoměstská radnice":MAILTO:info@nrpraha.cz
STATUS:ACCEPTED
SEQUENCE:0
TRANSP:OPAQUE
CLASS:PUBLIC
DTSTART:20260511T170000Z
DTEND:20260511T190000Z
DTSTAMP:20260416T061026Z
LAST-MODIFIED:20260416T061026Z
END:VEVENT
END:VCALENDAR