BEGIN:VCALENDAR
VERSION:2.0
PRODID:-//Nux ltd.//NONSGML CityBee//EN
CALSCALE:GREGORIAN
METHOD:REQUEST
BEGIN:VALARM
TRIGGER:-PT24H
DURATION:PT15M
ACTION:DISPLAY
DESCRIPTION;LANGUAGE=cs:Čarodějnice na Vltavě, Přijďte si užít zábavné rodinné odpoledne inspirované oblíbenou čarodějnickou tradicí. 
END:VALARM
BEGIN:VEVENT
UID:fffc70b1-5792-4ce2-91ee-1a23a1774c07
DESCRIPTION;LANGUAGE=cs:Přijďte si užít zábavné rodinné odpoledne inspirované oblíbenou čarodějnickou tradicí. 
LOCATION;LANGUAGE=cs:Vltavanů 229, Praha 4
SUMMARY;LANGUAGE=cs:Čarodějnice na Vltavě
ORGANIZER;CN="Vltavanů 229":MAILTO:bubenikova@hobbycentrum4.cz
STATUS:ACCEPTED
SEQUENCE:0
TRANSP:OPAQUE
CLASS:PUBLIC
DTSTART:20260426T120000Z
DTEND:20260426T160000Z
DTSTAMP:20260415T082229Z
LAST-MODIFIED:20260415T082229Z
END:VEVENT
END:VCALENDAR