BEGIN:VCALENDAR
VERSION:2.0
PRODID:-//Nux ltd.//NONSGML CityBee//EN
CALSCALE:GREGORIAN
METHOD:REQUEST
BEGIN:VALARM
TRIGGER:-PT24H
DURATION:PT15M
ACTION:DISPLAY
DESCRIPTION;LANGUAGE=cs:DIVADLO V KINĚ | Ucpanej systém, Adaptace povídek The Acid House Irvina Welshe v kultovní inscenaci Dejvického divadla! Hra získala cenu Alfréda Radoka za nejlepší inscenaci roku 2012
END:VALARM
BEGIN:VEVENT
UID:f25bc02e-721b-404f-88c5-5258b6bf9260
DESCRIPTION;LANGUAGE=cs:Adaptace povídek The Acid House Irvina Welshe v kultovní inscenaci Dejvického divadla! Hra získala cenu Alfréda Radoka za nejlepší inscenaci roku 2012
LOCATION;LANGUAGE=cs:Štěpánská 644/35, Praha 1
SUMMARY;LANGUAGE=cs:DIVADLO V KINĚ | Ucpanej systém
ORGANIZER;CN="":MAILTO:kino35@ifp.cz
STATUS:ACCEPTED
SEQUENCE:0
TRANSP:OPAQUE
CLASS:PUBLIC
DTSTART:20260425T180000Z
DTEND:20260425T202000Z
DTSTAMP:20260415T085753Z
LAST-MODIFIED:20260415T085753Z
END:VEVENT
END:VCALENDAR