BEGIN:VCALENDAR
VERSION:2.0
PRODID:-//Nux ltd.//NONSGML CityBee//EN
CALSCALE:GREGORIAN
METHOD:REQUEST
BEGIN:VALARM
TRIGGER:-PT24H
DURATION:PT15M
ACTION:DISPLAY
DESCRIPTION;LANGUAGE=cs:Slepice, Originální černohumorné drama s nečekanou hereckou hvězdou. Světová premiéra proběhla na festivalu v Torontu, kde snímek získal zvláštní uznání.
END:VALARM
BEGIN:VEVENT
UID:479484b5-70af-4148-9e4c-9754db60a9c4
DESCRIPTION;LANGUAGE=cs:Originální černohumorné drama s nečekanou hereckou hvězdou. Světová premiéra proběhla na festivalu v Torontu, kde snímek získal zvláštní uznání.
LOCATION;LANGUAGE=cs:Štěpánská 644/35, Praha 1
SUMMARY;LANGUAGE=cs:Slepice
ORGANIZER;CN="":MAILTO:kino35@ifp.cz
STATUS:ACCEPTED
SEQUENCE:0
TRANSP:OPAQUE
CLASS:PUBLIC
DTSTART:20260422T183000Z
DTEND:20260422T200000Z
DTSTAMP:20260424T093001Z
LAST-MODIFIED:20260424T093001Z
END:VEVENT
END:VCALENDAR