BEGIN:VCALENDAR
VERSION:2.0
PRODID:-//Nux ltd.//NONSGML CityBee//EN
CALSCALE:GREGORIAN
METHOD:REQUEST
BEGIN:VALARM
TRIGGER:-PT24H
DURATION:PT15M
ACTION:DISPLAY
DESCRIPTION;LANGUAGE=cs:Den zdraví, Pograme zaměřený na zdravý životní styl, prevenci i péči o duševní pohodu.
END:VALARM
BEGIN:VEVENT
UID:c9903a69-b30f-4720-b199-fdabdef9abef
DESCRIPTION;LANGUAGE=cs:Pograme zaměřený na zdravý životní styl, prevenci i péči o duševní pohodu.
LOCATION;LANGUAGE=cs:Mariánské náměstí 2/2, Praha 1
SUMMARY;LANGUAGE=cs:Den zdraví
ORGANIZER;CN="Praha.eu":MAILTO:info@praha.eu
STATUS:ACCEPTED
SEQUENCE:0
TRANSP:OPAQUE
CLASS:PUBLIC
DTSTART:20260425T080000Z
DTEND:20260425T160000Z
DTSTAMP:20260413T105006Z
LAST-MODIFIED:20260413T105006Z
END:VEVENT
END:VCALENDAR