BEGIN:VCALENDAR
VERSION:2.0
PRODID:-//Nux ltd.//NONSGML CityBee//EN
CALSCALE:GREGORIAN
METHOD:REQUEST
BEGIN:VALARM
TRIGGER:-PT24H
DURATION:PT15M
ACTION:DISPLAY
DESCRIPTION;LANGUAGE=cs:Vystavení fragmentu rukopisu Máje Karla Hynka Máchy, Pětidenní mimořádné vystavení fragmentu rukopisu Máje Karla Hynka Máchy připomene 190 let od vzniku tohoto významného díla.
END:VALARM
BEGIN:VEVENT
UID:dc9c0c66-89f3-49f3-b9df-43976206511a
DESCRIPTION;LANGUAGE=cs:Pětidenní mimořádné vystavení fragmentu rukopisu Máje Karla Hynka Máchy připomene 190 let od vzniku tohoto významného díla.
LOCATION;LANGUAGE=cs:Pelléova 44/22, Praha 6
SUMMARY;LANGUAGE=cs:Vystavení fragmentu rukopisu Máje Karla Hynka Máchy
ORGANIZER;CN="Muzeum literatury":MAILTO:mail@muzeumliteratury.cz
STATUS:ACCEPTED
SEQUENCE:0
TRANSP:OPAQUE
CLASS:PUBLIC
DTSTART:20260422T080000Z
DTEND:20260426T160000Z
DTSTAMP:20260412T081315Z
LAST-MODIFIED:20260412T081315Z
END:VEVENT
END:VCALENDAR