BEGIN:VCALENDAR
VERSION:2.0
PRODID:-//Nux ltd.//NONSGML CityBee//EN
CALSCALE:GREGORIAN
METHOD:REQUEST
BEGIN:VALARM
TRIGGER:-PT24H
DURATION:PT15M
ACTION:DISPLAY
DESCRIPTION;LANGUAGE=cs:Taneční na Brumlovce - cha cha, Zveme Vás na dubnovou taneční lekce bude patřit kubánské cha-che.
END:VALARM
BEGIN:VEVENT
UID:032cab1e-0594-4aca-826f-fa17be0254cc
DESCRIPTION;LANGUAGE=cs:Zveme Vás na dubnovou taneční lekce bude patřit kubánské cha-che.
LOCATION;LANGUAGE=cs:Želetavská 1525/1, Praha 4
SUMMARY;LANGUAGE=cs:Taneční na Brumlovce - cha cha
ORGANIZER;CN="":MAILTO:kamila.zitnakova@crestcom.cz
STATUS:ACCEPTED
SEQUENCE:0
TRANSP:OPAQUE
CLASS:PUBLIC
DTSTART:20260422T170000Z
DTEND:20260422T180000Z
DTSTAMP:20260410T104511Z
LAST-MODIFIED:20260410T104511Z
END:VEVENT
END:VCALENDAR