BEGIN:VCALENDAR
VERSION:2.0
PRODID:-//Nux ltd.//NONSGML CityBee//EN
CALSCALE:GREGORIAN
METHOD:REQUEST
BEGIN:VALARM
TRIGGER:-PT24H
DURATION:PT15M
ACTION:DISPLAY
DESCRIPTION;LANGUAGE=cs:Největší karaoke party v Praze by DVA.TOO, Zažijte největší karaoke party v Praze! Kreativní duo DVA.TOO a Fun Arena spojují své světy, aby vám naservírovali tu nejlepší karaoke party v Praze! 
END:VALARM
BEGIN:VEVENT
UID:e26c54bc-9189-430f-a10e-6d09884ced59
DESCRIPTION;LANGUAGE=cs:Zažijte největší karaoke party v Praze! Kreativní duo DVA.TOO a Fun Arena spojují své světy, aby vám naservírovali tu nejlepší karaoke party v Praze! 
LOCATION;LANGUAGE=cs:Bartůňkova 7, Praha
SUMMARY;LANGUAGE=cs:Největší karaoke party v Praze by DVA.TOO
ORGANIZER;CN="":MAILTO:info@funarena.cz
STATUS:ACCEPTED
SEQUENCE:0
TRANSP:OPAQUE
CLASS:PUBLIC
DTSTART:20260422T180000Z
DTEND:20260422T210000Z
DTSTAMP:20260424T094001Z
LAST-MODIFIED:20260424T094001Z
END:VEVENT
END:VCALENDAR