BEGIN:VCALENDAR
VERSION:2.0
PRODID:-//Nux ltd.//NONSGML CityBee//EN
CALSCALE:GREGORIAN
METHOD:REQUEST
BEGIN:VALARM
TRIGGER:-PT24H
DURATION:PT15M
ACTION:DISPLAY
DESCRIPTION;LANGUAGE=cs:St.art - o sportu a umění, Co má společného sport a umění? Inspirace archetypy vzorů a bohů a symbolický návrat do Řecka, kolébky olympijských her.
END:VALARM
BEGIN:VEVENT
UID:0ae84e44-9bc2-447a-a78d-e3715150d1c7
DESCRIPTION;LANGUAGE=cs:Co má společného sport a umění? Inspirace archetypy vzorů a bohů a symbolický návrat do Řecka, kolébky olympijských her.
LOCATION;LANGUAGE=cs:Bubenské nábřeží 306/13, Praha 7
SUMMARY;LANGUAGE=cs:St.art - o sportu a umění
ORGANIZER;CN="":MAILTO:jatka78@seznam.cz
STATUS:ACCEPTED
SEQUENCE:0
TRANSP:OPAQUE
CLASS:PUBLIC
DTSTART:20260422T173000Z
DTEND:20260426T173000Z
DTSTAMP:20260409T140629Z
LAST-MODIFIED:20260409T140629Z
END:VEVENT
END:VCALENDAR