BEGIN:VCALENDAR
VERSION:2.0
PRODID:-//Nux ltd.//NONSGML CityBee//EN
CALSCALE:GREGORIAN
METHOD:REQUEST
BEGIN:VALARM
TRIGGER:-PT24H
DURATION:PT15M
ACTION:DISPLAY
DESCRIPTION;LANGUAGE=cs:Jiří Petrbok: Deník pacienta, Výstava Jiřího Petrboka Deník pacienta se soustředí na téma autoportrétu a představuje umělcovu tvorbu od 90. let po současnost.
END:VALARM
BEGIN:VEVENT
UID:9f6b116c-12a6-4ed5-b8fb-7b9e3c86e828
DESCRIPTION;LANGUAGE=cs:Výstava Jiřího Petrboka Deník pacienta se soustředí na téma autoportrétu a představuje umělcovu tvorbu od 90. let po současnost.
LOCATION;LANGUAGE=cs:Poupětova 793/1, Praha 7
SUMMARY;LANGUAGE=cs:Jiří Petrbok: Deník pacienta
ORGANIZER;CN="Centrum současného umění DOX":MAILTO:info@dox.cz
STATUS:ACCEPTED
SEQUENCE:0
TRANSP:OPAQUE
CLASS:PUBLIC
DTSTART:20260424T090000Z
DTEND:20260816T170000Z
DTSTAMP:20260408T145754Z
LAST-MODIFIED:20260408T145754Z
END:VEVENT
END:VCALENDAR