BEGIN:VCALENDAR
VERSION:2.0
PRODID:-//Nux ltd.//NONSGML CityBee//EN
CALSCALE:GREGORIAN
METHOD:REQUEST
BEGIN:VALARM
TRIGGER:-PT24H
DURATION:PT15M
ACTION:DISPLAY
DESCRIPTION;LANGUAGE=cs:Za dveřmi - festival pouličního divadla, Festival pouličního divadla přinese na pražské Výstaviště a Mariánské náměstí šest dnů naplněných originálními a inspirativními spektákly.
END:VALARM
BEGIN:VEVENT
UID:990fa819-c204-4d0e-af49-8fba5733a3d5
DESCRIPTION;LANGUAGE=cs:Festival pouličního divadla přinese na pražské Výstaviště a Mariánské náměstí šest dnů naplněných originálními a inspirativními spektákly.
LOCATION;LANGUAGE=cs:Výstaviště 67, Praha 7
SUMMARY;LANGUAGE=cs:Za dveřmi - festival pouličního divadla
ORGANIZER;CN="Výstaviště Praha":MAILTO:info@prahaexpo.cz
STATUS:ACCEPTED
SEQUENCE:0
TRANSP:OPAQUE
CLASS:PUBLIC
DTSTART:20260714T140000Z
DTEND:20260719T200000Z
DTSTAMP:20260408T141751Z
LAST-MODIFIED:20260408T141751Z
END:VEVENT
END:VCALENDAR