BEGIN:VCALENDAR
VERSION:2.0
PRODID:-//Nux ltd.//NONSGML CityBee//EN
CALSCALE:GREGORIAN
METHOD:REQUEST
BEGIN:VALARM
TRIGGER:-PT24H
DURATION:PT15M
ACTION:DISPLAY
DESCRIPTION;LANGUAGE=cs:Kočky Praha 2026 - mezinárodní výstava, Výstava, kde se setkají chovatelé, odborníci i milovníci koček. Čeká na vás více než 150 koček z 30 plemen z celého světa.
END:VALARM
BEGIN:VEVENT
UID:0b856c10-bd4c-487c-9b4a-8b9467c428c5
DESCRIPTION;LANGUAGE=cs:Výstava, kde se setkají chovatelé, odborníci i milovníci koček. Čeká na vás více než 150 koček z 30 plemen z celého světa.
LOCATION;LANGUAGE=cs:Blažimská 1781/4, Praha 4
SUMMARY;LANGUAGE=cs:Kočky Praha 2026 - mezinárodní výstava
ORGANIZER;CN="Top hotel":MAILTO:
STATUS:ACCEPTED
SEQUENCE:0
TRANSP:OPAQUE
CLASS:PUBLIC
DTSTART:20260425T073000Z
DTEND:20260426T140000Z
DTSTAMP:20260408T152531Z
LAST-MODIFIED:20260408T152531Z
END:VEVENT
END:VCALENDAR