BEGIN:VCALENDAR
VERSION:2.0
PRODID:-//Nux ltd.//NONSGML CityBee//EN
CALSCALE:GREGORIAN
METHOD:REQUEST
BEGIN:VALARM
TRIGGER:-PT24H
DURATION:PT15M
ACTION:DISPLAY
DESCRIPTION;LANGUAGE=cs:Květinové slavnosti, Přijďte si užít příjemný jarní den plný vůně! Květinový trh nabídne široký sortiment trvalek.
END:VALARM
BEGIN:VEVENT
UID:7c9a3fd7-c0ff-4a5a-b707-57db044ffe9a
DESCRIPTION;LANGUAGE=cs:Přijďte si užít příjemný jarní den plný vůně! Květinový trh nabídne široký sortiment trvalek.
LOCATION;LANGUAGE=cs:Bohdanečská 259/1, Praha 9
SUMMARY;LANGUAGE=cs:Květinové slavnosti
ORGANIZER;CN="Zámecký areál Ctěnice":MAILTO:ctenice@muzeumprahy.cz
STATUS:ACCEPTED
SEQUENCE:0
TRANSP:OPAQUE
CLASS:PUBLIC
DTSTART:20260516T080000Z
DTEND:20260516T140000Z
DTSTAMP:20260408T104220Z
LAST-MODIFIED:20260408T104220Z
END:VEVENT
END:VCALENDAR