BEGIN:VCALENDAR
VERSION:2.0
PRODID:-//Nux ltd.//NONSGML CityBee//EN
CALSCALE:GREGORIAN
METHOD:REQUEST
BEGIN:VALARM
TRIGGER:-PT24H
DURATION:PT15M
ACTION:DISPLAY
DESCRIPTION;LANGUAGE=cs:Festival mini, Vyhlášený rodinný festival mini slaví! A to hned dvojité kulatiny – jubilejní 20. edici a zároveň 10. narozeniny.
END:VALARM
BEGIN:VEVENT
UID:b08ef70e-57f2-4b74-a63a-948fd445bf5a
DESCRIPTION;LANGUAGE=cs:Vyhlášený rodinný festival mini slaví! A to hned dvojité kulatiny – jubilejní 20. edici a zároveň 10. narozeniny.
LOCATION;LANGUAGE=cs:Bubenské nábřeží 306/13, Praha 7
SUMMARY;LANGUAGE=cs:Festival mini
ORGANIZER;CN="Holešovická tržnice":MAILTO:ahoj@holesovickatrznice.cz
STATUS:ACCEPTED
SEQUENCE:0
TRANSP:OPAQUE
CLASS:PUBLIC
DTSTART:20260424T080000Z
DTEND:20260425T160000Z
DTSTAMP:20260413T160834Z
LAST-MODIFIED:20260413T160834Z
END:VEVENT
END:VCALENDAR