BEGIN:VCALENDAR
VERSION:2.0
PRODID:-//Nux ltd.//NONSGML CityBee//EN
CALSCALE:GREGORIAN
METHOD:REQUEST
BEGIN:VALARM
TRIGGER:-PT24H
DURATION:PT15M
ACTION:DISPLAY
DESCRIPTION;LANGUAGE=cs:Barrandovský most - procházka, Zjistíte, zda jsou vaše sympatie k brutalismu silnější než dopravní inferno jedné z nejvytíženějších dopravních staveb České republiky.
END:VALARM
BEGIN:VEVENT
UID:e5e5c18f-cf93-4853-9ea2-a33542adce17
DESCRIPTION;LANGUAGE=cs:Zjistíte, zda jsou vaše sympatie k brutalismu silnější než dopravní inferno jedné z nejvytíženějších dopravních staveb České republiky.
LOCATION;LANGUAGE=cs:sraz tram Hlubočepy, Praha 5
SUMMARY;LANGUAGE=cs:Barrandovský most - procházka
ORGANIZER;CN="Open House Praha":MAILTO:info@openhousepraha.cz
STATUS:ACCEPTED
SEQUENCE:0
TRANSP:OPAQUE
CLASS:PUBLIC
DTSTART:20260422T143000Z
DTEND:20260422T153000Z
DTSTAMP:20260404T074211Z
LAST-MODIFIED:20260404T074211Z
END:VEVENT
END:VCALENDAR