BEGIN:VCALENDAR
VERSION:2.0
PRODID:-//Nux ltd.//NONSGML CityBee//EN
CALSCALE:GREGORIAN
METHOD:REQUEST
BEGIN:VALARM
TRIGGER:-PT24H
DURATION:PT15M
ACTION:DISPLAY
DESCRIPTION;LANGUAGE=cs:VYPRODÁNO: Skleněný palác – funkcionalistický skvost, Zveme vás na komentovanou prohlídku architektonické perly, při níž navštívíme prostory běžně nepřístupné veřejnosti.
END:VALARM
BEGIN:VEVENT
UID:53629f3b-8d8c-47af-9333-2d91b714c018
DESCRIPTION;LANGUAGE=cs:Zveme vás na komentovanou prohlídku architektonické perly, při níž navštívíme prostory běžně nepřístupné veřejnosti.
LOCATION;LANGUAGE=cs:nám. Svobody 728/1, Praha 6
SUMMARY;LANGUAGE=cs:VYPRODÁNO: Skleněný palác – funkcionalistický skvost
ORGANIZER;CN="Open House Praha":MAILTO:info@openhousepraha.cz
STATUS:ACCEPTED
SEQUENCE:0
TRANSP:OPAQUE
CLASS:PUBLIC
DTSTART:20260420T163000Z
DTEND:20260420T174500Z
DTSTAMP:20260420T183001Z
LAST-MODIFIED:20260420T183001Z
END:VEVENT
END:VCALENDAR