BEGIN:VCALENDAR
VERSION:2.0
PRODID:-//Nux ltd.//NONSGML CityBee//EN
CALSCALE:GREGORIAN
METHOD:REQUEST
BEGIN:VALARM
TRIGGER:-PT24H
DURATION:PT15M
ACTION:DISPLAY
DESCRIPTION;LANGUAGE=cs:Ochutnejte náš příběh, Zažijte výjimečnou večeři v Praze, kde se propojuje moderní dining s příběhem, emocí a udržitelností!
END:VALARM
BEGIN:VEVENT
UID:822cf9e9-5b27-43ab-8f52-8e0eb99d06b0
DESCRIPTION;LANGUAGE=cs:Zažijte výjimečnou večeři v Praze, kde se propojuje moderní dining s příběhem, emocí a udržitelností!
LOCATION;LANGUAGE=cs:V Celnici 1028/8, Praha
SUMMARY;LANGUAGE=cs:Ochutnejte náš příběh
ORGANIZER;CN="":MAILTO:theartisan@marriott.com
STATUS:ACCEPTED
SEQUENCE:0
TRANSP:OPAQUE
CLASS:PUBLIC
DTSTART:20260424T160000Z
DTEND:20261231T210000Z
DTSTAMP:20260422T151308Z
LAST-MODIFIED:20260422T151308Z
END:VEVENT
END:VCALENDAR