BEGIN:VCALENDAR
VERSION:2.0
PRODID:-//Nux ltd.//NONSGML CityBee//EN
CALSCALE:GREGORIAN
METHOD:REQUEST
BEGIN:VALARM
TRIGGER:-PT24H
DURATION:PT15M
ACTION:DISPLAY
DESCRIPTION;LANGUAGE=cs:Karel Svoboda: Téma na román, Koncert, který připomene život a dílo jednoho z českých králů melodie, Karla Svobody. Večerem zazní populární, muzikálové i filmové melodie.
END:VALARM
BEGIN:VEVENT
UID:ce98dfbe-1696-47c2-a33e-5044141b61e3
DESCRIPTION;LANGUAGE=cs:Koncert, který připomene život a dílo jednoho z českých králů melodie, Karla Svobody. Večerem zazní populární, muzikálové i filmové melodie.
LOCATION;LANGUAGE=cs:Náměstí Republiky 4, Praha 1
SUMMARY;LANGUAGE=cs:Karel Svoboda: Téma na román
ORGANIZER;CN="Divadlo Hybernia":MAILTO:krahulikova@ticket-production.cz
STATUS:ACCEPTED
SEQUENCE:0
TRANSP:OPAQUE
CLASS:PUBLIC
DTSTART:20260429T170000Z
DTEND:20260429T190000Z
DTSTAMP:20260302T085140Z
LAST-MODIFIED:20260302T085140Z
END:VEVENT
END:VCALENDAR